BEGIN:VCALENDAR
VERSION:2.0
PRODID:-//Drink &amp; Think - ECPv6.15.17//NONSGML v1.0//EN
CALSCALE:GREGORIAN
METHOD:PUBLISH
X-ORIGINAL-URL:https://drinkandthink.co
X-WR-CALDESC:Events for Drink &amp; Think
REFRESH-INTERVAL;VALUE=DURATION:PT1H
X-Robots-Tag:noindex
X-PUBLISHED-TTL:PT1H
BEGIN:VTIMEZONE
TZID:America/Chicago
BEGIN:DAYLIGHT
TZOFFSETFROM:-0600
TZOFFSETTO:-0500
TZNAME:CDT
DTSTART:20230312T080000
END:DAYLIGHT
BEGIN:STANDARD
TZOFFSETFROM:-0500
TZOFFSETTO:-0600
TZNAME:CST
DTSTART:20231105T070000
END:STANDARD
BEGIN:DAYLIGHT
TZOFFSETFROM:-0600
TZOFFSETTO:-0500
TZNAME:CDT
DTSTART:20240310T080000
END:DAYLIGHT
BEGIN:STANDARD
TZOFFSETFROM:-0500
TZOFFSETTO:-0600
TZNAME:CST
DTSTART:20241103T070000
END:STANDARD
BEGIN:DAYLIGHT
TZOFFSETFROM:-0600
TZOFFSETTO:-0500
TZNAME:CDT
DTSTART:20250309T080000
END:DAYLIGHT
BEGIN:STANDARD
TZOFFSETFROM:-0500
TZOFFSETTO:-0600
TZNAME:CST
DTSTART:20251102T070000
END:STANDARD
END:VTIMEZONE
BEGIN:VEVENT
DTSTART;TZID=America/Chicago:20241116T193000
DTEND;TZID=America/Chicago:20241116T213000
DTSTAMP:20260423T052956
CREATED:20240827T033128Z
LAST-MODIFIED:20241109T194905Z
UID:1749-1731785400-1731792600@drinkandthink.co
SUMMARY:Will we ever be able to talk politics at cocktail parties again?
DESCRIPTION:At this point\, the election is over. Everyone will have had the time to relieve the stress brought on by another turbulent presidential campaign season\, right? Everyone will be ready to engage in calm\, rational conversation about politics and its issues\, right? \nWe’re about to find out. \nDrink and Thinks are free and open to the public. Please RSVP to reserve your spot.
URL:https://drinkandthink.co/event/will-we-ever-be-able-to-talk-politics-at-cocktail-parties-again/
ATTACH;FMTTYPE=image/jpeg:https://drinkandthink.co/wp-content/uploads/2024/08/Politics-and-Cocktails.jpg
END:VEVENT
END:VCALENDAR